BEGIN:VCALENDAR
VERSION:2.0
PRODID:-//AIEE//AIEE Talk 2026//RO
CALSCALE:GREGORIAN
METHOD:PUBLISH

BEGIN:VEVENT
UID:aiee-talk-iasi-20261023@aiee.ro
DTSTAMP:20260212T080000Z
DTSTART;VALUE=DATE:20261023
DTEND;VALUE=DATE:20261024
SUMMARY:AIEE Talk: Carieră în industria energetică - Iași
DESCRIPTION:AIEE Talk: Carieră în industria energetică este un eveniment organizat de Asociația Inginerilor Energeticieni și Electricieni (AIEE), sub formă de panel de discuții, care aduce împreună studenți, reprezentanți ai mediului academic și specialiști din companiile din domeniul energetic și electric.\n\nDiscuțiile sunt orientate spre parcursuri profesionale reale, competențe cerute pe piața muncii și tranziția de la universitate către industrie.\n\nAIEE Talk: Carieră în industria energetică – ediția Iași.\n\nMai multe detalii actualizate despre eveniment - www.aiee.ro
LOCATION:Iași, România
END:VEVENT

END:VCALENDAR
